BEGIN:VCALENDAR
METHOD:PUBLISH
VERSION:2.0
CALSCALE:GREGORIAN
PRODID:-//NONSGML WPForms//NONSGML Sugar Calendar Feeds v3.11.0//EN
X-WR-CALNAME:Eugene Lightning Softball
X-WR-CALDESC:Papa&#039\;s Pizza Parlor
X-WR-TIMEZONE:America/Los_Angeles
BEGIN:VTIMEZONE
TZID:America/Los_Angeles
BEGIN:STANDARD
TZOFFSETFROM:-0700
TZOFFSETTO:-0800
DTSTART:20211107T090000
TZNAME:PST
END:STANDARD
END:VTIMEZONE
BEGIN:VTIMEZONE
TZID:America/Los_Angeles
BEGIN:STANDARD
TZOFFSETFROM:-0700
TZOFFSETTO:-0800
DTSTART:20211107T090000
TZNAME:PST
END:STANDARD
END:VTIMEZONE
BEGIN:VEVENT
SUMMARY:Eugene Lightning Softball
DESCRIPTION:Download Our Flyer Here!
URL;VALUE=URI:https://www.papaspizza.net/events/eugene-lightning-softbal
 l/
UID:urn:uuid:f1796496-e6a3-4c87-87e0-3b2e3dbba0e5
STATUS:CONFIRMED
ORGANIZER:
DTSTAMP:20260423T095959Z
DTSTART;VALUE=DATE:20220309
END:VEVENT
END:VCALENDAR