BEGIN:VCALENDAR
METHOD:PUBLISH
VERSION:2.0
CALSCALE:GREGORIAN
PRODID:-//NONSGML WPForms//NONSGML Sugar Calendar Feeds v3.11.0//EN
X-WR-CALNAME:Pleasant Hill Babe Ruth Baseball
X-WR-CALDESC:Papa&#039\;s Pizza Parlor
X-WR-TIMEZONE:America/Los_Angeles
BEGIN:VTIMEZONE
TZID:America/Los_Angeles
BEGIN:DAYLIGHT
TZOFFSETFROM:-0800
TZOFFSETTO:-0700
DTSTART:20260308T100000
TZNAME:PDT
END:DAYLIGHT
END:VTIMEZONE
BEGIN:VTIMEZONE
TZID:America/Los_Angeles
BEGIN:DAYLIGHT
TZOFFSETFROM:-0800
TZOFFSETTO:-0700
DTSTART:20260308T100000
TZNAME:PDT
END:DAYLIGHT
END:VTIMEZONE
BEGIN:VEVENT
SUMMARY:Pleasant Hill Babe Ruth Baseball
DESCRIPTION:Download Our Flyer Here!
URL;VALUE=URI:https://www.papaspizza.net/events/pleasant-hill-babe-ruth-
 baseball-2/
UID:urn:uuid:4a6fd260-6ee7-490f-8a83-1a5f5ec66ec8
STATUS:CONFIRMED
ORGANIZER:
DTSTAMP:20260424T011326Z
DTSTART;VALUE=DATE:20260504
END:VEVENT
END:VCALENDAR