BEGIN:VCALENDAR
METHOD:PUBLISH
VERSION:2.0
CALSCALE:GREGORIAN
PRODID:-//NONSGML WPForms//NONSGML Sugar Calendar Feeds v3.11.0//EN
X-WR-CALNAME:Pleasant Hill Wrestling
X-WR-CALDESC:Papa&#039\;s Pizza Parlor
X-WR-TIMEZONE:America/Los_Angeles
BEGIN:VTIMEZONE
TZID:America/Los_Angeles
BEGIN:DAYLIGHT
TZOFFSETFROM:-0800
TZOFFSETTO:-0700
DTSTART:20260308T100000
TZNAME:PDT
END:DAYLIGHT
END:VTIMEZONE
BEGIN:VTIMEZONE
TZID:America/Los_Angeles
BEGIN:DAYLIGHT
TZOFFSETFROM:-0800
TZOFFSETTO:-0700
DTSTART:20260308T100000
TZNAME:PDT
END:DAYLIGHT
END:VTIMEZONE
BEGIN:VEVENT
SUMMARY:Pleasant Hill Wrestling
DESCRIPTION:Download Our Flyer Here!
URL;VALUE=URI:https://www.papaspizza.net/events/pleasant-hill-wrestling-
 3/
UID:urn:uuid:5d88480b-5f2b-401d-b912-f544e9bb8d60
STATUS:CONFIRMED
ORGANIZER:
DTSTAMP:20260424T011209Z
DTSTART;VALUE=DATE:20260507
END:VEVENT
END:VCALENDAR