BEGIN:VCALENDAR
METHOD:PUBLISH
VERSION:2.0
CALSCALE:GREGORIAN
PRODID:-//NONSGML WPForms//NONSGML Sugar Calendar Feeds v3.11.0//EN
X-WR-CALNAME:Thurston Cheer Athletics
X-WR-CALDESC:Papa&#039\;s Pizza Parlor
X-WR-TIMEZONE:America/Los_Angeles
BEGIN:VTIMEZONE
TZID:America/Los_Angeles
BEGIN:DAYLIGHT
TZOFFSETFROM:-0800
TZOFFSETTO:-0700
DTSTART:20260308T100000
TZNAME:PDT
END:DAYLIGHT
END:VTIMEZONE
BEGIN:VTIMEZONE
TZID:America/Los_Angeles
BEGIN:DAYLIGHT
TZOFFSETFROM:-0800
TZOFFSETTO:-0700
DTSTART:20260308T100000
TZNAME:PDT
END:DAYLIGHT
END:VTIMEZONE
BEGIN:VEVENT
SUMMARY:Thurston Cheer Athletics
DESCRIPTION:Download Our Flyer Here!
URL;VALUE=URI:https://www.papaspizza.net/events/thurston-cheer-athletics
 -2/
UID:urn:uuid:df75c014-54c1-49ca-886c-83793de48c05
STATUS:CONFIRMED
ORGANIZER:
DTSTAMP:20260424T010453Z
DTSTART;VALUE=DATE:20260506
END:VEVENT
END:VCALENDAR